BEGIN:VCALENDAR
VERSION:2.0
PRODID:-//Aangun - ECPv6.2.2//NONSGML v1.0//EN
CALSCALE:GREGORIAN
METHOD:PUBLISH
X-WR-CALNAME:Aangun
X-ORIGINAL-URL:https://aangun.pk
X-WR-CALDESC:Events for Aangun
REFRESH-INTERVAL;VALUE=DURATION:PT1H
X-Robots-Tag:noindex
X-PUBLISHED-TTL:PT1H
BEGIN:VTIMEZONE
TZID:Asia/Karachi
BEGIN:STANDARD
TZOFFSETFROM:+0500
TZOFFSETTO:+0500
TZNAME:PKT
DTSTART:20240101T000000
END:STANDARD
END:VTIMEZONE
BEGIN:VEVENT
DTSTART;TZID=Asia/Karachi:20240603T180000
DTEND;TZID=Asia/Karachi:20240807T193000
DTSTAMP:20260424T165612
CREATED:20240509T131846Z
LAST-MODIFIED:20240525T140934Z
UID:10000181-1717437600-1723059000@aangun.pk
SUMMARY:Renaissance of Sanskrit in Lahore
DESCRIPTION:Home » EventsOverviewSanskrit (literally ‘polished’ or ‘refined’) is a beautiful language of classical times. The sound\, script\, grammar and orderly nature of Sanskrit makes it one of the most charming languages of the world. There is a large body of literature written in Sanskrit\, with texts in philosophy\, science\, art\, music\, phonology\, mathematics\, architecture\, logic and much more. Interestingly\, the home of Classical Sanskrit is said to be the Northern Punjab and Swat valley in Pakistan. Panini\, (600/500 BC) a Punjabi from Taxila (Takshshila)\, a few kilometers north of Islamabad\, wrote his famous book Ashtadhyaya\, the first ever book of grammar of Classical Sanskrit and linguistics in the recorded history. \nThere was a rich scholarly tradition of Sanskrit studies in Lahore before the partition of India. Oriental College Punjab University\, Government College\, and Forman Christian College were the major centers of Sanskrit studies. Dr. Alfred Woolner of Punjab University\, Dr. Leitner of Government College and Swami Ram Tirth of Forman Christian College were great scholars of Sanskrit. There were great collections of Sanskrit books and manuscripts in these institutions. \nUnfortunately\, this whole tradition of Sanskrit Studies gradually died and now dust is eating these rare Sanskrit books in Lahore. \nIs it possible to rekindle the light of knowledge? \nBOOK SLOT NOW\n\n\n\n\nDetails\n\n\n\n\n\n\n\n\n\nSuitable for:\n14 years and above (children and adults)\n\n\nDuration:\n3rd June – 7th August 2024 (9 weeks)\n\n\nDay and Time:\n06:00 – 7:30 PM (online on google meet + in-person at center) \nMonday and Wednesday (2 classes a week)\n\n\nInvestment:\n35\,000 PKR (complete course\, all materials provided) \n25% Discount to Students (please contact on our whatsapp for discount)\n\n\n\n\nBOOK SLOT NOWIntroduction to Classical Sanskrit-IThis is the first in a series of courses aimed at introducing Classical Sanskrit. The course is accessible to absolute beginners and assumes no prior knowledge of the language. Students will learn to read the Devanagari script\, the basics of Sanskrit grammar\, as well as Sanskrit pronunciation. Students will also be introduced to the historical\, cultural\, and religious context of the Sanskrit language. \nLearning OutcomesBy the end of the course students should be able to: \n\nread and write Devanagari script\ntranscribe text in Devanagari script into Roman script and the vice versa\nunderstand common grammatical features of the Sanskrit language\ndevelop basic reading comprehension and a working vocabulary of essential nouns and verbs.\ntranslate simple Sanskrit sentences.\n\nBOOK SLOT NOWBOOK SLOT NOWOffering and Trainer ProfileDr. Shahid Rasheed\nDr. Shahid Rasheed is a sociologist with multidisciplinary interests including classical languages. After learning Arabic and Persian\, he has recently completed three courses in classical Sanskrit from Antonia Ruppel\, the author of Cambridge Introduction to Sanskrit. He is keen to rekindle this dying tradition of Sanskrit in Pakistan. \nRegistration / TicketsFacing difficulty? Save this number 0332 4387626 by the name of 'Aangun' and Whatsapp us \nHow to book slot/s \n1- Select number of tickets/slots and fill the attendee information\, click SAVE AND VIEW CART\n2- On cart page\, click PROCEED TO CHECKOUT\n3- Fill the billing details\, select payment method\, click PLACE ORDER. You will get confirmation email and message on screen
URL:https://aangun.pk/event/renaissance-of-sanskrit-in-lahore/
LOCATION:Aangun – Center for Learning and Culture\, 126 Block F\, Model Town\, Lahore\, Punjab\, 54700\, Pakistan
CATEGORIES:13 - 18,All Courses,Events,Summer Camp
ATTACH;FMTTYPE=image/jpeg:https://aangun.pk/wp-content/uploads/2024/05/Sanskrit-Workshop.jpg
GEO:31.4776377;74.3184457
X-APPLE-STRUCTURED-LOCATION;VALUE=URI;X-ADDRESS=Aangun – Center for Learning and Culture 126 Block F Model Town Lahore Punjab 54700 Pakistan;X-APPLE-RADIUS=500;X-TITLE=126 Block F\, Model Town:geo:74.3184457,31.4776377
END:VEVENT
BEGIN:VEVENT
DTSTART;TZID=Asia/Karachi:20240722T100000
DTEND;TZID=Asia/Karachi:20240802T120000
DTSTAMP:20260424T165612
CREATED:20240708T081816Z
LAST-MODIFIED:20240712T054206Z
UID:10000182-1721642400-1722600000@aangun.pk
SUMMARY:Quranic Education Camp by Yusuf International Quran Academy
DESCRIPTION:Home » EventsOverviewJoin Our Fun Summer Camp and Explore Quranic Education! \nGet ready for an exciting and enriching summer at our Fun Summer Camp starting on July 22\, 2024! \nOver two weeks\, kids will enjoy a variety of activities designed to foster learning and creativity in a fun environment. \nSummer Camp Activities Include: \n\nBasic Self-Defense\nStorytelling\n⁠Tarbiyah (Moral and Spiritual Education)\n⁠Arts & Crafts\n\nJoin us for an educational experience that combines fun and faith.\nRegister now to secure your spot in our summer camp and Quranic education programs! \nBOOK SLOT NOW\n\n\n\n\nDetails\n\n\n\n\n\n\n\n\n\nSuitable for:\nBoys: 6-10 years \n⁠Girls: 6-12 years\n\n\nCamp Duration:\n22 July – 2nd August 2024 (2 weeks) (6 classes)\n\n\nDay and Time:\n10:00 AM – 12:00 PM \nWeekdays (Monday\, Wednesday\, Friday)\n\n\nInvestment:\n6\,000 PKR\n\n\n\n\nBOOK SLOT NOWOrganizerYusuf International Quran Academy\nIn addition to our summer camp\, Yusuf International Quran Academy offers comprehensive Quranic education for all ages. Our programs include: \n\n⁠Tajweed: Learn the correct pronunciation and recitation of the Quran.\nHifz: Memorize the Quran with expert guidance.\n⁠Arabic for Adults: Understand and speak Arabic fluently.\n⁠Teacher’s Training: Equip yourself with the skills to teach the Quran.\n⁠Tarbiyah: Gain moral and spiritual education.\n⁠Kids Tajweed: Specialized Tajweed classes tailored for young learners.\n\nRegistration / TicketsFacing difficulty? Save this number 0332 4387626 by the name of ‘Aangun’ and Whatsapp us \nHow to book slot/s \n1- Select number of tickets/slots and fill the attendee information\, click SAVE AND VIEW CART\n2- On cart page\, click PROCEED TO CHECKOUT\n3- Fill the billing details\, select payment method\, click PLACE ORDER. You will get confirmation email and message on screen
URL:https://aangun.pk/event/quranic-education-camp-by-yusuf-international-quran-academy/
LOCATION:Aangun – Center for Learning and Culture\, 126 Block F\, Model Town\, Lahore\, Punjab\, 54700\, Pakistan
CATEGORIES:13 - 18,8 - 12,Events,Summer Camp,Under 7
ATTACH;FMTTYPE=image/jpeg:https://aangun.pk/wp-content/uploads/2024/07/Yusuf-Intl-Camp-1.jpeg
GEO:31.4776377;74.3184457
X-APPLE-STRUCTURED-LOCATION;VALUE=URI;X-ADDRESS=Aangun – Center for Learning and Culture 126 Block F Model Town Lahore Punjab 54700 Pakistan;X-APPLE-RADIUS=500;X-TITLE=126 Block F\, Model Town:geo:74.3184457,31.4776377
END:VEVENT
END:VCALENDAR