BEGIN:VCALENDAR
VERSION:2.0
PRODID:-//Aangun - ECPv6.2.2//NONSGML v1.0//EN
CALSCALE:GREGORIAN
METHOD:PUBLISH
X-ORIGINAL-URL:https://aangun.pk
X-WR-CALDESC:Events for Aangun
REFRESH-INTERVAL;VALUE=DURATION:PT1H
X-Robots-Tag:noindex
X-PUBLISHED-TTL:PT1H
BEGIN:VTIMEZONE
TZID:Asia/Karachi
BEGIN:STANDARD
TZOFFSETFROM:+0500
TZOFFSETTO:+0500
TZNAME:PKT
DTSTART:20220101T000000
END:STANDARD
END:VTIMEZONE
BEGIN:VEVENT
DTSTART;TZID=Asia/Karachi:20221119T120000
DTEND;TZID=Asia/Karachi:20221210T133000
DTSTAMP:20260420T085652
CREATED:20221024T103535Z
LAST-MODIFIED:20221116T103333Z
UID:10000146-1668859200-1670679000@aangun.pk
SUMMARY:Fine Art Lessons for Younger with Urwa Siddique
DESCRIPTION:Home » Weekly SessionsOverviewThese are regular classes and you can enroll anytime.Painting and Drawing  \nThe fine art lessons are designed to introduce painting and drawing to people interested in arts\, as well as intermediate and advanced level learners.  \nThe class mentor support the class like a studio practice where the students create art in presence of the mentor\, and also practice during the week and get feedback on the created works.  \nThe class is for children and young people from the age of 3 to 5 years old.  \nAbout TrainerUrwa Siddique\nUrwa Siddique graduated from Punjab University College of Arts and Design (PUCAD) with painting as her major in 2020. Experimenting with her ideas and materials trying to nourish herself as an artist Urwa is pursuing her master’s degree in visual arts from National College of Arts (NCA) Lahore campus. She has been part of different exhibitions ever since. \n\n\n\n\n\nDetails\n\n\n\n\n\n\n\n\n\nSuitable for:\n3 – 5\n\n\nDay and Time:\nEvery Saturday\, 12:00 to 1:30 pm\n\n\nDuration:\n1.5 Hours Each Lesson\n\n\nFee:\n5000 per Month (4 Lessons)\n\n\nBenefits:\n-Art Lessons and Studio Practice Support\n-Beginner and Advanced Level\n\n\nDiscounts:\nSibling 10%\nClick here to get\n\n\n\n\nBOOK SLOT NOWFacing difficulty? Save this number 0332 4387626 by the name of ‘Aangun’ and Whatsapp us \nSibling Discount Code \nUse coupon code sibling10 at checkout to get 10% discount
URL:https://aangun.pk/event/fine-art-lessons-for-younger-with-urwa-siddique/
CATEGORIES:All Courses,Events,Under 7,Weekly Sessions
ATTACH;FMTTYPE=image/jpeg:https://aangun.pk/wp-content/uploads/2022/10/Fine_Arts-for-Younger.jpg
END:VEVENT
BEGIN:VEVENT
DTSTART;TZID=Asia/Karachi:20221105T160000
DTEND;TZID=Asia/Karachi:20221126T180000
DTSTAMP:20260420T085652
CREATED:20220927T154732Z
LAST-MODIFIED:20221103T083106Z
UID:10000132-1667664000-1669485600@aangun.pk
SUMMARY:Piano Guitar Lessons with Tehseen Wajahat Chishty
DESCRIPTION:Home » Weekly SessionsOverviewThese are regular classes and you can enroll anytime.In this course for beginners and advance learners\, students will learn how to play the keyboard and piano from start.\nAlong the process\, it will help students comprehend the fundamentals of music to understand it better\, develop ears to comprehend scales and chords and explore their interest and play interments like guitar and piano. \nAbout TrainerTehseen Wajahat Chishty\nTehseen Wajahat Chishty belongs to Natia gharana and classically trained in music. He graduated from National College of Arts in Musicology and is a multi-talented singer\, lyricist\, composer\, director and writer. He earned a gold medal in All Pakistan Music Conferacne\, and teaching music and theater to children and young people in various schools with the perspective of professional practice. Tehseen also works with various brands as an actor\, singer and composer. \n\n\n\n\n\nDetails\n\n\n\n\n\n\n\n\n\nSuitable for:\n7+ and All Age Groups\n\n\nDay and Time:\nEvery Saturday\, 4pm to 6pm\n\n\nDuration:\n2 Hours Each Lesson\n\n\nFee:\n5000 per Month (4 Lessons)\n\n\nBenefits:\n-Practice Support throughout the week via Whatsapp\n-Beginner and Advanced Level\n\n\nDiscounts:\nSibling 10%\nClick here to get\n\n\n\n\nBOOK SLOT NOWFacing difficulty? Save this number 0332 4387626 by the name of ‘Aangun’ and Whatsapp us \nSibling Discount Code \nUse coupon code sibling10 at checkout to get 10% discount
URL:https://aangun.pk/event/piano-guitar-lessons-with-tehseen-wajahat-chishty/
LOCATION:Aangun – Center for Learning and Culture\, 126 Block F\, Model Town\, Lahore\, Punjab\, 54700\, Pakistan
CATEGORIES:13 - 18,8 - 12,Events,Weekly Sessions
ATTACH;FMTTYPE=image/jpeg:https://aangun.pk/wp-content/uploads/2022/09/Piano-Guitar-Tehseen.jpg
GEO:31.4776377;74.3184457
X-APPLE-STRUCTURED-LOCATION;VALUE=URI;X-ADDRESS=Aangun – Center for Learning and Culture 126 Block F Model Town Lahore Punjab 54700 Pakistan;X-APPLE-RADIUS=500;X-TITLE=126 Block F\, Model Town:geo:74.3184457,31.4776377
END:VEVENT
BEGIN:VEVENT
DTSTART;TZID=Asia/Karachi:20221105T140000
DTEND;TZID=Asia/Karachi:20221126T160000
DTSTAMP:20260420T085652
CREATED:20220927T161522Z
LAST-MODIFIED:20221103T084040Z
UID:10000134-1667656800-1669478400@aangun.pk
SUMMARY:Fine Art Lessons with Urwa Siddique
DESCRIPTION:Home » Weekly SessionsOverviewThese are regular classes and you can enroll anytime.Painting and Drawing  \nThe fine art lessons are designed to introduce painting and drawing to people interested in arts\, as well as intermediate and advanced level learners.  \nThe class mentor support the class like a studio practice where the students create art in presence of the mentor\, and also practice during the week and get feedback on the created works.  \nThe class is for children and young people from the age of 6 to 18 years old.  \nAbout TrainerUrwa Siddique\nUrwa Siddique graduated from Punjab University College of Arts and Design (PUCAD) with painting as her major in 2020. Experimenting with her ideas and materials trying to nourish herself as an artist Urwa is pursuing her master’s degree in visual arts from National College of Arts (NCA) Lahore campus. She has been part of different exhibitions ever since. \n\n\n\n\n\nDetails\n\n\n\n\n\n\n\n\n\nSuitable for:\n6 – 18\n\n\nDay and Time:\nEvery Saturday\, 2pm to 4pm\n\n\nDuration:\n2 Hours Each Lesson\n\n\nFee:\n5000 per Month (4 Lessons)\n\n\nBenefits:\n-Art Lessons and Studio Practice Support\n-Beginner and Advanced Level\n\n\nDiscounts:\nSibling 10%\nClick here to get\n\n\n\n\nBOOK SLOT NOWFacing difficulty? Save this number 0332 4387626 by the name of ‘Aangun’ and Whatsapp us \nSibling Discount Code \nUse coupon code sibling10 at checkout to get 10% discount
URL:https://aangun.pk/event/fine-art-lessons-with-urwa-siddique/
LOCATION:Aangun – Center for Learning and Culture\, 126 Block F\, Model Town\, Lahore\, Punjab\, 54700\, Pakistan
CATEGORIES:13 - 18,8 - 12,All Courses,Events,Weekly Sessions
ATTACH;FMTTYPE=image/jpeg:https://aangun.pk/wp-content/uploads/2022/09/Fine-Art-Urwa.jpg
GEO:31.4776377;74.3184457
X-APPLE-STRUCTURED-LOCATION;VALUE=URI;X-ADDRESS=Aangun – Center for Learning and Culture 126 Block F Model Town Lahore Punjab 54700 Pakistan;X-APPLE-RADIUS=500;X-TITLE=126 Block F\, Model Town:geo:74.3184457,31.4776377
END:VEVENT
BEGIN:VEVENT
DTSTART;TZID=Asia/Karachi:20221105T120000
DTEND;TZID=Asia/Karachi:20221126T140000
DTSTAMP:20260420T085652
CREATED:20220927T160607Z
LAST-MODIFIED:20221103T083952Z
UID:10000133-1667649600-1669471200@aangun.pk
SUMMARY:Graphic Design Lessons with Amna Ashraf
DESCRIPTION:Home » Weekly SessionsThese are regular classes and you can enroll anytime.OverviewThis course will help children deal with digital platforms and learn to convey ideas and messages using images\, design and graphics. This course is effective for beginners and advanced learners as an introduction to digital design with fundamentals of design\, colour theory\, typography\, image editing and poster design. \nOutcomes \n\nIntroduction to software or platforms\nElements of design\nIntroduction to digital and print media\nIntroduction to freelancing\n\nAbout TrainerAmna Ashraf\nAmna is doing a BFA in Textile Design from Kinnaird College\, Lahore. She has been working as a freelance artist in design\, graphics and illustration with various Pakistan and international organisations. She is currently working as a part-time illustrator in Lahore. \n\n\n\n\n\nDetails\n\n\n\n\n\n\n\n\n\nSuitable for:\n7 – 18\n\n\nDay and Time:\nEvery Saturday\, 12pm to 2pm\n\n\nDuration:\n2 Hours Each Lesson\n\n\nFee:\n5000 per Month (4 Lessons)\n\n\nBenefits:\n-Design using laptops or tabs\n-Beginner and Advanced Level\n\n\nDiscounts:\nSibling 10%\nClick here to get\n\n\n\n\nBOOK SLOT NOWFacing difficulty? Save this number 0332 4387626 by the name of ‘Aangun’ and Whatsapp us \nSibling Discount Code \nUse coupon code sibling10 at checkout to get 10% discount
URL:https://aangun.pk/event/graphic-design-lessons-with-amna-ashraf/
LOCATION:Aangun – Center for Learning and Culture\, 126 Block F\, Model Town\, Lahore\, Punjab\, 54700\, Pakistan
CATEGORIES:13 - 18,8 - 12,Events,Weekly Sessions
ATTACH;FMTTYPE=image/jpeg:https://aangun.pk/wp-content/uploads/2022/09/Graphic-Design-Amna.jpg
GEO:31.4776377;74.3184457
X-APPLE-STRUCTURED-LOCATION;VALUE=URI;X-ADDRESS=Aangun – Center for Learning and Culture 126 Block F Model Town Lahore Punjab 54700 Pakistan;X-APPLE-RADIUS=500;X-TITLE=126 Block F\, Model Town:geo:74.3184457,31.4776377
END:VEVENT
BEGIN:VEVENT
DTSTART;TZID=Asia/Karachi:20221105T120000
DTEND;TZID=Asia/Karachi:20221126T140000
DTSTAMP:20260420T085652
CREATED:20220927T143822Z
LAST-MODIFIED:20221103T083940Z
UID:10000131-1667649600-1669471200@aangun.pk
SUMMARY:Flute Lessons with Ustad Muhammad Hanif
DESCRIPTION:Home » Weekly SessionsThese are regular classes and you can enroll anytime.OverviewThe flute class is designed to introduce flute to people interested in music\, as well as intermediate and advanced level learners. The class mentor teach the flute once a week in-person\, and will support the practice via Whatsapp to the enrolled students. \nThe class is for children of 8 years and up and there is no age limit for adults to join. \nAbout TrainerUstad Muhammad Hanif\nUstad Muhammad Hanif started his career in music under guidance of Pandit Chandan Das and Ustad Parvez Paras. He also learned Dhrupad Music from Ustad Hafeez Khan spearhead of Taalwandi Gharana. His flute recital thus have an amalgamation of Dhrupad and Khayal along with an emphasis upon expression of emotional content employing volume control and ‘meendh.’ He has been performing professionally as a flautist since 1998 and has performed at national platforms in likes of PTV\, APMC Lahore and NAPA\, APMC Karachi\, LMF\, Al-Khayal Music Society and many others along with representing classical music internationally. His recent ventures include performances at online platforms like Takiya Online\, Artists United and Sarb Akal. Apart from being at stage pretty often he is currently teaching music at LUMS University and LGS. \n\n\n\n\n\nDetails\n\n\n\n\n\n\n\n\n\nSuitable for:\n8+ and All Age Groups\n\n\nDay and Time:\nEvery Saturday\, 12pm to 2pm\n\n\nDuration:\n2 Hours Each Lesson\n\n\nFee:\n5000 PKR per Month (4 Lessons)\n\n\nBenefits:\n-Practice Support throughout the week via Whatsapp\n-Beginner and Advanced Level\n\n\nDiscounts:\nSibling 10%\nClick here to get\n\n\n\n\nBOOK SLOT NOWFacing difficulty? Save this number 0332 4387626 by the name of ‘Aangun’ and Whatsapp us \nSibling Discount Code \nUse coupon code sibling10 at checkout to get 10% discount
URL:https://aangun.pk/event/flute-lessons-with-ustad-muhammad-hanif/
CATEGORIES:13 - 18,8 - 12,Events,Weekly Sessions
ATTACH;FMTTYPE=image/jpeg:https://aangun.pk/wp-content/uploads/2022/09/Flute-Lessons.jpg
END:VEVENT
END:VCALENDAR